BEGIN:VCALENDAR
VERSION:2.0
PRODID:GIGPRESS 2.0 WORDPRESS PLUGIN
CALSCALE:GREGORIAN
X-WR-TIMEZONE:Etc/GMT
METHOD:PUBLISH
BEGIN:VTIMEZONE
TZID:GMT
BEGIN:STANDARD
DTSTART:20071028T010000
TZOFFSETTO:+0000
TZOFFSETFROM:+0000
END:STANDARD
END:VTIMEZONE
BEGIN:VEVENT
SUMMARY:Melvin Davis at Axis
DESCRIPTION:Notes: Junction Mondays at Axis 
LOCATION:Axis\, 3048 Dundas Street West\, Toronto\, CA
UID:20260608T200000Z-62-info@robertdavis.biz
URL:https://www.robertdavis.biz/melvin-davis-in-toronto-on-06-14-26/
DTSTART;VALUE=DATE-TIME;TZID=GMT:20260608T200000Z
DTEND;VALUE=DATE-TIME;TZID=GMT:20260608T200000Z
DTSTAMP:20260421T011556Z
END:VEVENT
END:VCALENDAR